BEGIN:VCALENDAR
VERSION:2.0
PRODID:-//Franken - Silvanerheimat - ECPv6.15.20//NONSGML v1.0//EN
CALSCALE:GREGORIAN
METHOD:PUBLISH
X-ORIGINAL-URL:https://franken-silvanerheimat.de
X-WR-CALDESC:Veranstaltungen für Franken - Silvanerheimat
REFRESH-INTERVAL;VALUE=DURATION:PT1H
X-Robots-Tag:noindex
X-PUBLISHED-TTL:PT1H
BEGIN:VTIMEZONE
TZID:Europe/Berlin
BEGIN:DAYLIGHT
TZOFFSETFROM:+0100
TZOFFSETTO:+0200
TZNAME:CEST
DTSTART:20230326T010000
END:DAYLIGHT
BEGIN:STANDARD
TZOFFSETFROM:+0200
TZOFFSETTO:+0100
TZNAME:CET
DTSTART:20231029T010000
END:STANDARD
BEGIN:DAYLIGHT
TZOFFSETFROM:+0100
TZOFFSETTO:+0200
TZNAME:CEST
DTSTART:20240331T010000
END:DAYLIGHT
BEGIN:STANDARD
TZOFFSETFROM:+0200
TZOFFSETTO:+0100
TZNAME:CET
DTSTART:20241027T010000
END:STANDARD
BEGIN:DAYLIGHT
TZOFFSETFROM:+0100
TZOFFSETTO:+0200
TZNAME:CEST
DTSTART:20250330T010000
END:DAYLIGHT
BEGIN:STANDARD
TZOFFSETFROM:+0200
TZOFFSETTO:+0100
TZNAME:CET
DTSTART:20251026T010000
END:STANDARD
END:VTIMEZONE
BEGIN:VEVENT
DTSTART;VALUE=DATE:20240322
DTEND;VALUE=DATE:20240323
DTSTAMP:20260422T122704
CREATED:20240108T112516Z
LAST-MODIFIED:20240321T150518Z
UID:10000061-1711065600-1711151999@franken-silvanerheimat.de
SUMMARY:Wahl der 66. Fränkischen Weinkönigin
DESCRIPTION:Ein Höhepunkt im fränkischen Weinjahr: Die Wahl der Fränkischen Weinkönigin. Freuen Sie sich auf Fachwissen\, Charme und Spannung. \nDie Wahl der 66. Fränkischen Weinkönigin findet am 22. März 2024 in der Stadthalle am Schloss in Aschaffenburg statt. Ein Online-Livestream des Bayerischen Rundfunks moderiert durch Jürgen Gläser und Klara Zehnder wird die Veranstaltung direkt aus der Stadthalle am Schloss in Aschaffenburg übertragen. \nAm 22.03.2024 ab 12:45 Uhr  startet der Livestream des BR auf br24.de/unterfranken
URL:https://franken-silvanerheimat.de/event/wahl-der-66-fraenkischen-weinkoenigin/
LOCATION:Stadthalle am Schloss\, Aschaffenburg\, Schloßplatz 1\, Aschaffenburg\, 63739\, Germany
CATEGORIES:Premium-Veranstaltung
ATTACH;FMTTYPE=image/jpeg:https://franken-silvanerheimat.de/wp-content/uploads/2024/03/Wahl-WK-22.03.2024Kopie-e1711031977573.jpg
ORGANIZER;CN="Gebietsweinwerbung Frankenwein-Frankenland GmbH":MAILTO:kontakt@haus-des-frankenweins.de
END:VEVENT
END:VCALENDAR